BEGIN:VCALENDAR
VERSION:2.0
PRODID:-//Kawerak - ECPv6.15.20//NONSGML v1.0//EN
CALSCALE:GREGORIAN
METHOD:PUBLISH
X-ORIGINAL-URL:https://kawerak.org
X-WR-CALDESC:Events for Kawerak
REFRESH-INTERVAL;VALUE=DURATION:PT1H
X-Robots-Tag:noindex
X-PUBLISHED-TTL:PT1H
BEGIN:VTIMEZONE
TZID:America/Anchorage
BEGIN:DAYLIGHT
TZOFFSETFROM:-0900
TZOFFSETTO:-0800
TZNAME:AKDT
DTSTART:20230312T110000
END:DAYLIGHT
BEGIN:STANDARD
TZOFFSETFROM:-0800
TZOFFSETTO:-0900
TZNAME:AKST
DTSTART:20231105T100000
END:STANDARD
BEGIN:DAYLIGHT
TZOFFSETFROM:-0900
TZOFFSETTO:-0800
TZNAME:AKDT
DTSTART:20240310T110000
END:DAYLIGHT
BEGIN:STANDARD
TZOFFSETFROM:-0800
TZOFFSETTO:-0900
TZNAME:AKST
DTSTART:20241103T100000
END:STANDARD
BEGIN:DAYLIGHT
TZOFFSETFROM:-0900
TZOFFSETTO:-0800
TZNAME:AKDT
DTSTART:20250309T110000
END:DAYLIGHT
BEGIN:STANDARD
TZOFFSETFROM:-0800
TZOFFSETTO:-0900
TZNAME:AKST
DTSTART:20251102T100000
END:STANDARD
END:VTIMEZONE
BEGIN:VEVENT
DTSTART;VALUE=DATE:20240427
DTEND;VALUE=DATE:20240428
DTSTAMP:20260419T155322
CREATED:20240422T234246Z
LAST-MODIFIED:20240422T234246Z
UID:12656-1714176000-1714262399@kawerak.org
SUMMARY:First Responders Meet and Greet and Ice Cream Social
DESCRIPTION:Join us Saturday April 27th for another SWEET Go Blue Event in honor of Child Abuse Prevention month. Drop by anytime between 1pm and 4pm at the Nome Firehall to say hello\, check out the cool vehicles and of course get your ice cream.
URL:https://kawerak.org/event/first-responders-meet-and-greet-and-ice-cream-social/
CATEGORIES:Child Advocacy Center,Go Blue Event
ATTACH;FMTTYPE=image/jpeg:https://kawerak.org/wp-content/uploads/2024/04/CAP-Calendar-Events-17.jpg
END:VEVENT
END:VCALENDAR