BEGIN:VCALENDAR
VERSION:2.0
PRODID:-//Kawerak - ECPv6.15.20//NONSGML v1.0//EN
CALSCALE:GREGORIAN
METHOD:PUBLISH
X-ORIGINAL-URL:https://kawerak.org
X-WR-CALDESC:Events for Kawerak
REFRESH-INTERVAL;VALUE=DURATION:PT1H
X-Robots-Tag:noindex
X-PUBLISHED-TTL:PT1H
BEGIN:VTIMEZONE
TZID:America/Anchorage
BEGIN:DAYLIGHT
TZOFFSETFROM:-0900
TZOFFSETTO:-0800
TZNAME:AKDT
DTSTART:20230312T110000
END:DAYLIGHT
BEGIN:STANDARD
TZOFFSETFROM:-0800
TZOFFSETTO:-0900
TZNAME:AKST
DTSTART:20231105T100000
END:STANDARD
BEGIN:DAYLIGHT
TZOFFSETFROM:-0900
TZOFFSETTO:-0800
TZNAME:AKDT
DTSTART:20240310T110000
END:DAYLIGHT
BEGIN:STANDARD
TZOFFSETFROM:-0800
TZOFFSETTO:-0900
TZNAME:AKST
DTSTART:20241103T100000
END:STANDARD
BEGIN:DAYLIGHT
TZOFFSETFROM:-0900
TZOFFSETTO:-0800
TZNAME:AKDT
DTSTART:20250309T110000
END:DAYLIGHT
BEGIN:STANDARD
TZOFFSETFROM:-0800
TZOFFSETTO:-0900
TZNAME:AKST
DTSTART:20251102T100000
END:STANDARD
END:VTIMEZONE
BEGIN:VEVENT
DTSTART;VALUE=DATE:20240614
DTEND;VALUE=DATE:20240622
DTSTAMP:20260419T130537
CREATED:20240521T220402Z
LAST-MODIFIED:20240530T002521Z
UID:12801-1718323200-1719014399@kawerak.org
SUMMARY:Rainbow Rock Hunt
DESCRIPTION:Join in on the fun from June 14th to the 21st when Kawerak’s Child Advocacy Center staff hides hand painted rainbow rocks around Nome! If you find a hidden rock\, hold on to it until June 21st! Claim your prize by coming to the Children’s Day event in the parking lot next to City Hall anytime from 12pm to 3pm. Happy hunting!
URL:https://kawerak.org/event/rainbow-rock-hunt-3/
CATEGORIES:Child Advocacy Center
ATTACH;FMTTYPE=image/jpeg:https://kawerak.org/wp-content/uploads/2024/05/childrens-day-Rainbow-Rock-Hunt-2.jpg
END:VEVENT
BEGIN:VEVENT
DTSTART;VALUE=DATE:20240621
DTEND;VALUE=DATE:20240622
DTSTAMP:20260419T130537
CREATED:20240521T221729Z
LAST-MODIFIED:20240521T221729Z
UID:12806-1718928000-1719014399@kawerak.org
SUMMARY:Children's Day Event
DESCRIPTION:Join us on this solstice day to celebrate our kids! Children’s Day is hosted by Kawerak’s Child Advocacy Center and they are ready to share fun activities like face painting\, hair tinseling\, flower planting and MORE! We will be in the parking lot across from City Hall from 12pm to 3pm. Hope to see you there!
URL:https://kawerak.org/event/childrens-day-event-2/
CATEGORIES:Child Advocacy Center
ATTACH;FMTTYPE=image/jpeg:https://kawerak.org/wp-content/uploads/2024/05/childrens-day-Rainbow-Rock-Hunt.jpg
END:VEVENT
END:VCALENDAR