BEGIN:VCALENDAR
VERSION:2.0
PRODID:-//Kawerak - ECPv6.15.20//NONSGML v1.0//EN
CALSCALE:GREGORIAN
METHOD:PUBLISH
X-ORIGINAL-URL:https://kawerak.org
X-WR-CALDESC:Events for Kawerak
REFRESH-INTERVAL;VALUE=DURATION:PT1H
X-Robots-Tag:noindex
X-PUBLISHED-TTL:PT1H
BEGIN:VTIMEZONE
TZID:America/Anchorage
BEGIN:DAYLIGHT
TZOFFSETFROM:-0900
TZOFFSETTO:-0800
TZNAME:AKDT
DTSTART:20230312T110000
END:DAYLIGHT
BEGIN:STANDARD
TZOFFSETFROM:-0800
TZOFFSETTO:-0900
TZNAME:AKST
DTSTART:20231105T100000
END:STANDARD
BEGIN:DAYLIGHT
TZOFFSETFROM:-0900
TZOFFSETTO:-0800
TZNAME:AKDT
DTSTART:20240310T110000
END:DAYLIGHT
BEGIN:STANDARD
TZOFFSETFROM:-0800
TZOFFSETTO:-0900
TZNAME:AKST
DTSTART:20241103T100000
END:STANDARD
BEGIN:DAYLIGHT
TZOFFSETFROM:-0900
TZOFFSETTO:-0800
TZNAME:AKDT
DTSTART:20250309T110000
END:DAYLIGHT
BEGIN:STANDARD
TZOFFSETFROM:-0800
TZOFFSETTO:-0900
TZNAME:AKST
DTSTART:20251102T100000
END:STANDARD
END:VTIMEZONE
BEGIN:VEVENT
DTSTART;VALUE=DATE:20240524
DTEND;VALUE=DATE:20240525
DTSTAMP:20260421T023451
CREATED:20240402T221458Z
LAST-MODIFIED:20240402T223655Z
UID:12537-1716508800-1716595199@kawerak.org
SUMMARY:Vendor Travel Scholarship Deadline - Nome Berry Festival
DESCRIPTION:NOME BERRY FESTIVAL\nFriday June 21 – 11am to 7pm\nNome Recreation Center \nVendor/Table Registration \nPlease note: Limited Travel Scholarships Available (Deadline 5/24 for scholarship request) \nIf you would like to sell your craft/food/art at the event\, you can sign up with the form Vendor Registration Form which is also available at kawerak.org/cpd. Registration forms can also be picked up at the Kawerak office or the Nome Visitor Center. \n\n\n\nIF REQUESTING A TRAVEL SCHOLARSHIP please send your completed registration form no later than May 24th to Barb Nickels at BNickels@kawerak.org. \nQualifying travel scholarship recipients will be notified by close of business Friday May 31 . NOTE: Lodging accommodations may be double occupancy. \n\n\n\n\n\nIf you receive a travel scholarship approval notification\, and you realize you cannot attend\, we MUST be notified immediately so that we can assist someone else prior to purchasing your airline tickets and booking lodging. Contact Barb Nickels at BNickels@kawerak.org or 907/434-1833 for any travel cancellations.\n\nIf you are NOT needing a travel scholarship\, please turn in your Vendor Registration Form  as soon as possible and no later than June 14th to Angela Hansen at: hansennomehome@gmail.com.
URL:https://kawerak.org/event/vendor-travel-scholarship-deadline-nome-berry-festival/
CATEGORIES:Community Planning and Development
ATTACH;FMTTYPE=image/jpeg:https://kawerak.org/wp-content/uploads/2024/04/NOME-BERRY-FESTIVAL-Social-Media.jpg
END:VEVENT
END:VCALENDAR