BEGIN:VCALENDAR
VERSION:2.0
PRODID:-//Kawerak - ECPv6.15.20//NONSGML v1.0//EN
CALSCALE:GREGORIAN
METHOD:PUBLISH
X-ORIGINAL-URL:https://kawerak.org
X-WR-CALDESC:Events for Kawerak
REFRESH-INTERVAL;VALUE=DURATION:PT1H
X-Robots-Tag:noindex
X-PUBLISHED-TTL:PT1H
BEGIN:VTIMEZONE
TZID:America/Anchorage
BEGIN:DAYLIGHT
TZOFFSETFROM:-0900
TZOFFSETTO:-0800
TZNAME:AKDT
DTSTART:20230312T110000
END:DAYLIGHT
BEGIN:STANDARD
TZOFFSETFROM:-0800
TZOFFSETTO:-0900
TZNAME:AKST
DTSTART:20231105T100000
END:STANDARD
BEGIN:DAYLIGHT
TZOFFSETFROM:-0900
TZOFFSETTO:-0800
TZNAME:AKDT
DTSTART:20240310T110000
END:DAYLIGHT
BEGIN:STANDARD
TZOFFSETFROM:-0800
TZOFFSETTO:-0900
TZNAME:AKST
DTSTART:20241103T100000
END:STANDARD
BEGIN:DAYLIGHT
TZOFFSETFROM:-0900
TZOFFSETTO:-0800
TZNAME:AKDT
DTSTART:20250309T110000
END:DAYLIGHT
BEGIN:STANDARD
TZOFFSETFROM:-0800
TZOFFSETTO:-0900
TZNAME:AKST
DTSTART:20251102T100000
END:STANDARD
END:VTIMEZONE
BEGIN:VEVENT
DTSTART;VALUE=DATE:20240521
DTEND;VALUE=DATE:20240522
DTSTAMP:20260420T141325
CREATED:20240521T210124Z
LAST-MODIFIED:20240521T210124Z
UID:12798-1716249600-1716335999@kawerak.org
SUMMARY:EESS Outreach Event - Elim
DESCRIPTION:On May 21st we invite you to visit Kawerak Education\, Employment\, and Supportive Services staff at the Elim tribal office between 12:00 -3:30pm for program information\, application assistance\, and a chance to win some great door prizes.
URL:https://kawerak.org/event/eess-outreach-event-elim/
CATEGORIES:Education,Employment and Supportive Services,Event
ATTACH;FMTTYPE=image/jpeg:https://kawerak.org/wp-content/uploads/2024/05/441406496_769703728693968_4376544088625692852_n.jpg
END:VEVENT
BEGIN:VEVENT
DTSTART;VALUE=DATE:20240523
DTEND;VALUE=DATE:20240524
DTSTAMP:20260420T141325
CREATED:20240522T234757Z
LAST-MODIFIED:20240522T234757Z
UID:12844-1716422400-1716508799@kawerak.org
SUMMARY:EESS Outreach Event in Gambell
DESCRIPTION:Kawerak’s Education Employment and Supportive Services Department will be in Gambell on Thursday May 23rd at the Q Building from 12:00pm-2:30pm! \nStop by to learn about our services we offer\, including GED\, training\, scholarships\, child care\, and welfare assistance. Don’t forget while you are there to grab your door prize as well ????
URL:https://kawerak.org/event/eess-outreach-event-in-gambell/
CATEGORIES:Education,Employment and Supportive Services,Event
ATTACH;FMTTYPE=image/jpeg:https://kawerak.org/wp-content/uploads/2024/05/442481197_770485118615829_6823037442026827437_n.jpg
END:VEVENT
BEGIN:VEVENT
DTSTART;VALUE=DATE:20240527
DTEND;VALUE=DATE:20240528
DTSTAMP:20260420T141325
CREATED:20240517T200448Z
LAST-MODIFIED:20240517T200502Z
UID:12773-1716768000-1716854399@kawerak.org
SUMMARY:Ilisazaqtuagut - Golovin Language Gathering
DESCRIPTION:Ilisazaqtuagut \n\n\n\n\nGolovin Language Gathering!  \n\n\n\n \n\n\nPlease join us next week on May 27th in the Golovin Tribal Building at 5:00pm for a potluck and discussion on what is wanted as a community for language learning and revitalization.
URL:https://kawerak.org/event/ilisazaqtuagut-golovin-language-gathering/
CATEGORIES:Education,Head Start,Language
ATTACH;FMTTYPE=image/jpeg:https://kawerak.org/wp-content/uploads/2024/05/1.jpg
END:VEVENT
BEGIN:VEVENT
DTSTART;VALUE=DATE:20240528
DTEND;VALUE=DATE:20240529
DTSTAMP:20260420T141325
CREATED:20240517T205821Z
LAST-MODIFIED:20240517T205821Z
UID:12777-1716854400-1716940799@kawerak.org
SUMMARY:Ilisazaqtuagut - Elim Language Gathering
DESCRIPTION:Ilisazaqtuagut \n\n\n\n\nElim Language Gathering!  \n\n\n\n \n\n\nPlease join us next week on May 28th in the Elim Head Start Building at 12:00pm for a potluck and discussion on what is wanted as a community for language learning and revitalization.
URL:https://kawerak.org/event/ilisazaqtuagut-elim-language-gathering/
CATEGORIES:Education,Head Start,Katirvik Cultural Center,Language
ATTACH;FMTTYPE=image/jpeg:https://kawerak.org/wp-content/uploads/2024/05/2-1.jpg
END:VEVENT
END:VCALENDAR