BEGIN:VCALENDAR
VERSION:2.0
PRODID:-//Kawerak - ECPv6.15.20//NONSGML v1.0//EN
CALSCALE:GREGORIAN
METHOD:PUBLISH
X-WR-CALNAME:Kawerak
X-ORIGINAL-URL:https://kawerak.org
X-WR-CALDESC:Events for Kawerak
REFRESH-INTERVAL;VALUE=DURATION:PT1H
X-Robots-Tag:noindex
X-PUBLISHED-TTL:PT1H
BEGIN:VTIMEZONE
TZID:America/Anchorage
BEGIN:DAYLIGHT
TZOFFSETFROM:-0900
TZOFFSETTO:-0800
TZNAME:AKDT
DTSTART:20240310T110000
END:DAYLIGHT
BEGIN:STANDARD
TZOFFSETFROM:-0800
TZOFFSETTO:-0900
TZNAME:AKST
DTSTART:20241103T100000
END:STANDARD
BEGIN:DAYLIGHT
TZOFFSETFROM:-0900
TZOFFSETTO:-0800
TZNAME:AKDT
DTSTART:20250309T110000
END:DAYLIGHT
BEGIN:STANDARD
TZOFFSETFROM:-0800
TZOFFSETTO:-0900
TZNAME:AKST
DTSTART:20251102T100000
END:STANDARD
BEGIN:DAYLIGHT
TZOFFSETFROM:-0900
TZOFFSETTO:-0800
TZNAME:AKDT
DTSTART:20260308T110000
END:DAYLIGHT
BEGIN:STANDARD
TZOFFSETFROM:-0800
TZOFFSETTO:-0900
TZNAME:AKST
DTSTART:20261101T100000
END:STANDARD
BEGIN:DAYLIGHT
TZOFFSETFROM:-0900
TZOFFSETTO:-0800
TZNAME:AKDT
DTSTART:20270314T110000
END:DAYLIGHT
BEGIN:STANDARD
TZOFFSETFROM:-0800
TZOFFSETTO:-0900
TZNAME:AKST
DTSTART:20271107T100000
END:STANDARD
END:VTIMEZONE
BEGIN:VEVENT
DTSTART;VALUE=DATE:20250402
DTEND;VALUE=DATE:20250403
DTSTAMP:20260420T190844
CREATED:20250326T225516Z
LAST-MODIFIED:20250326T225533Z
UID:14004-1743552000-1743638399@kawerak.org
SUMMARY:GED in Elim
DESCRIPTION:Kawerak Adult Education/GED Program will be at the Elim City Office Meeting Room \nWednesday April 2: 12 p.m. – 6 p.m.\nThursday April 3: 10 a.m. –  6 p.m. \nFor Tutoring: Please bring your laptop for assessment and GED study supplies: Kaplan book\, etc. \nFor Enrollment: Plan about 3 hours for enrollment testing. \nQuestions: Contact us on Staff cell phone: 907-434-1258\,  text friendly \nPlease Note: Funds are available to fly you to Nome for testing. Also there is a BRAND NEW option for us to do Mobile Testing in your home community! Testing is available once you are enrolled\, complete the TABE\, and score over 145 on GED Ready.
URL:https://kawerak.org/event/ged-in-elim-2/
CATEGORIES:Education
ATTACH;FMTTYPE=image/jpeg:https://kawerak.org/wp-content/uploads/2025/03/GED-Social-Media-Post.jpg
END:VEVENT
BEGIN:VEVENT
DTSTART;VALUE=DATE:20250403
DTEND;VALUE=DATE:20250404
DTSTAMP:20260420T190844
CREATED:20250326T225629Z
LAST-MODIFIED:20250326T225735Z
UID:14007-1743638400-1743724799@kawerak.org
SUMMARY:GED in Elim
DESCRIPTION:Kawerak Adult Education/GED Program will be at the Elim City Office Meeting Room \nWednesday April 2: 12 p.m. – 6 p.m.\nThursday April 3: 10 a.m. –  6 p.m. \nFor Tutoring: Please bring your laptop for assessment and GED study supplies: Kaplan book\, etc. \nFor Enrollment: Plan about 3 hours for enrollment testing. \nQuestions: Contact us on Staff cell phone: 907-434-1258\,  text friendly \nPlease Note: Funds are available to fly you to Nome for testing. Also there is a BRAND NEW option for us to do Mobile Testing in your home community! Testing is available once you are enrolled\, complete the TABE\, and score over 145 on GED Ready.
URL:https://kawerak.org/event/ged-in-elim-3/
CATEGORIES:Education
ATTACH;FMTTYPE=image/jpeg:https://kawerak.org/wp-content/uploads/2025/03/GED-Social-Media-Post.jpg
END:VEVENT
BEGIN:VEVENT
DTSTART;VALUE=DATE:20250408
DTEND;VALUE=DATE:20250409
DTSTAMP:20260420T190844
CREATED:20250326T222041Z
LAST-MODIFIED:20250404T000047Z
UID:13998-1744070400-1744156799@kawerak.org
SUMMARY:GED in Saint Michael
DESCRIPTION:Kawerak Adult Education/GED Program will be at the Saint Michael IRA \nTuesday April 8: 12 p.m. to 6 p.m.\nWednesday April 9: 9 a.m. –  5 p.m.\nThursday April 10: 10 a.m. – 3 p.m. \nFor Tutoring: Please bring your laptop for assessment and GED study supplies: Kaplan book\, etc. \nFor Enrollment: Plan about 3 hours for enrollment testing. \nQuestions: Contact us on Staff cell phone: 907-434-1258\,  text friendly \nPlease Note: Funds are available to fly you to Nome for testing. Also there is a BRAND NEW option for us to do Mobile Testing in your home community! Testing is available once you are enrolled\, complete the TABE\, and score over 145 on GED Ready.
URL:https://kawerak.org/event/ged-in-saint-michael/
CATEGORIES:Education
ATTACH;FMTTYPE=image/png:https://kawerak.org/wp-content/uploads/2025/03/GED-Social-Media-Post-3.png
END:VEVENT
BEGIN:VEVENT
DTSTART;VALUE=DATE:20250409
DTEND;VALUE=DATE:20250410
DTSTAMP:20260420T190844
CREATED:20250326T222140Z
LAST-MODIFIED:20250403T235937Z
UID:14001-1744156800-1744243199@kawerak.org
SUMMARY:GED in Saint Michael
DESCRIPTION:Kawerak Adult Education/GED Program will be at the Saint Michael IRA \nTuesday April 8: 12 p.m. to 6 p.m.\nWednesday April 9: 9 a.m. –  5 p.m.\nThursday April 10: 10 a.m. – 3 p.m. \nFor Tutoring: Please bring your laptop for assessment and GED study supplies: Kaplan book\, etc. \nFor Enrollment: Plan about 3 hours for enrollment testing. \nQuestions: Contact us on Staff cell phone: 907-434-1258\,  text friendly \nPlease Note: Funds are available to fly you to Nome for testing. Also there is a BRAND NEW option for us to do Mobile Testing in your home community! Testing is available once you are enrolled\, complete the TABE\, and score over 145 on GED Ready.
URL:https://kawerak.org/event/ged-in-saint-michael-2/
CATEGORIES:Education
ATTACH;FMTTYPE=image/png:https://kawerak.org/wp-content/uploads/2025/03/GED-Social-Media-Post-3.png
END:VEVENT
BEGIN:VEVENT
DTSTART;VALUE=DATE:20250410
DTEND;VALUE=DATE:20250411
DTSTAMP:20260420T190844
CREATED:20250404T000347Z
LAST-MODIFIED:20250404T000347Z
UID:14054-1744243200-1744329599@kawerak.org
SUMMARY:GED in Saint Michael
DESCRIPTION:Kawerak Adult Education/GED Program will be at the Saint Michael IRA \nTuesday April 8: 12 p.m. to 6 p.m.\nWednesday April 9: 9 a.m. –  5 p.m.\nThursday April 10: 10 a.m. – 3 p.m. \nFor Tutoring: Please bring your laptop for assessment and GED study supplies: Kaplan book\, etc. \nFor Enrollment: Plan about 3 hours for enrollment testing. \nQuestions: Contact us on Staff cell phone: 907-434-1258\,  text friendly \nPlease Note: Funds are available to fly you to Nome for testing. Also there is a BRAND NEW option for us to do Mobile Testing in your home community! Testing is available once you are enrolled\, complete the TABE\, and score over 145 on GED Ready.
URL:https://kawerak.org/event/ged-in-saint-michael-3/
CATEGORIES:Education
ATTACH;FMTTYPE=image/png:https://kawerak.org/wp-content/uploads/2025/03/GED-Social-Media-Post-3.png
END:VEVENT
BEGIN:VEVENT
DTSTART;VALUE=DATE:20250415
DTEND;VALUE=DATE:20250416
DTSTAMP:20260420T190844
CREATED:20250327T184618Z
LAST-MODIFIED:20250327T184618Z
UID:14010-1744675200-1744761599@kawerak.org
SUMMARY:GED in Koyuk
DESCRIPTION:Kawerak Adult Education/GED Program will be at the Koyuk IRA \nTuesday April 15: 10 a.m. – 6 p.m.\nWednesday April 16: 10 aa.m. –  6 p.m. \nFor Tutoring: Please bring your laptop for assessment and GED study supplies: Kaplan book\, etc. \nFor Enrollment: Plan about 3 hours for enrollment testing. \nQuestions: Contact us on Staff cell phone: 907-434-1258\,  text friendly \nPlease Note: Funds are available to fly you to Nome for testing. Also there is a BRAND NEW option for us to do Mobile Testing in your home community! Testing is available once you are enrolled\, complete the TABE\, and score over 145 on GED Ready.
URL:https://kawerak.org/event/ged-in-koyuk-2/
CATEGORIES:Education
ATTACH;FMTTYPE=image/png:https://kawerak.org/wp-content/uploads/2025/03/GED-Social-Media-Post-2.png
END:VEVENT
BEGIN:VEVENT
DTSTART;VALUE=DATE:20250416
DTEND;VALUE=DATE:20250417
DTSTAMP:20260420T190844
CREATED:20250327T184701Z
LAST-MODIFIED:20250327T184701Z
UID:14013-1744761600-1744847999@kawerak.org
SUMMARY:GED in Koyuk
DESCRIPTION:Kawerak Adult Education/GED Program will be at the Koyuk IRA \nTuesday April 15: 10 a.m. – 6 p.m.\nWednesday April 16: 10 aa.m. –  6 p.m. \nFor Tutoring: Please bring your laptop for assessment and GED study supplies: Kaplan book\, etc. \nFor Enrollment: Plan about 3 hours for enrollment testing. \nQuestions: Contact us on Staff cell phone: 907-434-1258\,  text friendly \nPlease Note: Funds are available to fly you to Nome for testing. Also there is a BRAND NEW option for us to do Mobile Testing in your home community! Testing is available once you are enrolled\, complete the TABE\, and score over 145 on GED Ready.
URL:https://kawerak.org/event/ged-in-koyuk-3/
CATEGORIES:Education
ATTACH;FMTTYPE=image/png:https://kawerak.org/wp-content/uploads/2025/03/GED-Social-Media-Post-2.png
END:VEVENT
BEGIN:VEVENT
DTSTART;VALUE=DATE:20251006
DTEND;VALUE=DATE:20251007
DTSTAMP:20260420T190844
CREATED:20250924T010412Z
LAST-MODIFIED:20250924T010412Z
UID:14932-1759708800-1759795199@kawerak.org
SUMMARY:GED in Gambell
DESCRIPTION:Kawerak GED Program is coming to Gambell: Oct. 6\, 7 & 8!\n\n\nWe will be at the Sivuqaq Lodge\nMonday: 2 p.m. to 6 p.m.\nTuesday & Wednesday: Open 9:30 a.m. – 5 p.m.\n\n\nIf you are a new student – It’s that Time to enroll for GED! Plan for about 3 hours for enrollment paperwork and assessment.\n\n\nIf you are already enrolled – Please bring your laptop for assessment and GED study supplies: Kaplan book\, etc.\n\n\nIf you have questions contact us on the staff cell phone at 1-907-434-1258. Text friendly!\n\n\nFunds are available to fly you to Nome OR for us to do Mobile Testing\, IF you are enrolled\, complete the TABE\, and score over 145 on GED Ready.
URL:https://kawerak.org/event/ged-in-gambell/
CATEGORIES:Education
END:VEVENT
BEGIN:VEVENT
DTSTART;VALUE=DATE:20251007
DTEND;VALUE=DATE:20251008
DTSTAMP:20260420T190844
CREATED:20250924T010510Z
LAST-MODIFIED:20250924T010510Z
UID:14935-1759795200-1759881599@kawerak.org
SUMMARY:GED in Gambell
DESCRIPTION:Kawerak GED Program is coming to Gambell: Oct. 6\, 7 & 8!\n\n\nWe will be at the Sivuqaq Lodge\nMonday: 2 p.m. to 6 p.m.\nTuesday & Wednesday: Open 9:30 a.m. – 5 p.m.\n\n\nIf you are a new student – It’s that Time to enroll for GED! Plan for about 3 hours for enrollment paperwork and assessment.\n\n\nIf you are already enrolled – Please bring your laptop for assessment and GED study supplies: Kaplan book\, etc.\n\n\nIf you have questions contact us on the staff cell phone at 1-907-434-1258. Text friendly!\n\n\nFunds are available to fly you to Nome OR for us to do Mobile Testing\, IF you are enrolled\, complete the TABE\, and score over 145 on GED Ready.
URL:https://kawerak.org/event/ged-in-gambell-2/
CATEGORIES:Education
END:VEVENT
BEGIN:VEVENT
DTSTART;VALUE=DATE:20251008
DTEND;VALUE=DATE:20251009
DTSTAMP:20260420T190844
CREATED:20250924T010621Z
LAST-MODIFIED:20250924T010621Z
UID:14937-1759881600-1759967999@kawerak.org
SUMMARY:GED in Gambell
DESCRIPTION:Kawerak GED Program is coming to Gambell: Oct. 6\, 7 & 8!\n\n\nWe will be at the Sivuqaq Lodge\nMonday: 2 p.m. to 6 p.m.\nTuesday & Wednesday: Open 9:30 a.m. – 5 p.m.\n\n\nIf you are a new student – It’s that Time to enroll for GED! Plan for about 3 hours for enrollment paperwork and assessment.\n\n\nIf you are already enrolled – Please bring your laptop for assessment and GED study supplies: Kaplan book\, etc.\n\n\nIf you have questions contact us on the staff cell phone at 1-907-434-1258. Text friendly!\n\n\nFunds are available to fly you to Nome OR for us to do Mobile Testing\, IF you are enrolled\, complete the TABE\, and score over 145 on GED Ready.
URL:https://kawerak.org/event/ged-in-gambell-3/
CATEGORIES:Education
END:VEVENT
BEGIN:VEVENT
DTSTART;TZID=America/Anchorage:20260424T080000
DTEND;TZID=America/Anchorage:20260424T170000
DTSTAMP:20260420T190844
CREATED:20260319T174150Z
LAST-MODIFIED:20260319T174241Z
UID:16275-1777017600-1777050000@kawerak.org
SUMMARY:Application Deadline: College Transition Program
DESCRIPTION:Get support for your transition to college! \nApply online by April 24th: www.kawerak.org/transition
URL:https://kawerak.org/event/application-deadline-college-transition-program/
CATEGORIES:Education,Event
ATTACH;FMTTYPE=image/jpeg:https://kawerak.org/wp-content/uploads/2026/03/transitions-college-social-media.jpg
END:VEVENT
BEGIN:VEVENT
DTSTART;TZID=America/Anchorage:20260424T080000
DTEND;TZID=America/Anchorage:20260424T170000
DTSTAMP:20260420T190844
CREATED:20260331T184521Z
LAST-MODIFIED:20260331T190842Z
UID:16400-1777017600-1777050000@kawerak.org
SUMMARY:Application Deadline: Peer2Peer College Mentor Program
DESCRIPTION:A program for Kawerak Higher Education Scholarship college students at UAA and UAF! \nConnect with a mentor & strengthen your network! \nJunior or Senior? Become a peer mentor! Deadline to apply: April 24\nwww.kawerak.org/2p-mentor \n\nEarn $1000 per month\nDevelop leadership skills\nGain experience for your resume\nStrengthen your network of peers\n\nFirst Time Freshman? Become a peer mentee! Deadline to apply: June 30\nwww.kawerak.org/2p-mentee \n\nReceive laptop\, airfare & stipend\nLearn about university resources and get one-on-one support\nStrengthen your network of peers
URL:https://kawerak.org/event/peer2peer-college-mentor-program/
CATEGORIES:Education,Event
ATTACH;FMTTYPE=image/jpeg:https://kawerak.org/wp-content/uploads/2026/03/26-27-Peer-Mentor-Social-Media.jpg
END:VEVENT
END:VCALENDAR