BEGIN:VCALENDAR
VERSION:2.0
PRODID:-//Kawerak - ECPv6.15.20//NONSGML v1.0//EN
CALSCALE:GREGORIAN
METHOD:PUBLISH
X-WR-CALNAME:Kawerak
X-ORIGINAL-URL:https://kawerak.org
X-WR-CALDESC:Events for Kawerak
REFRESH-INTERVAL;VALUE=DURATION:PT1H
X-Robots-Tag:noindex
X-PUBLISHED-TTL:PT1H
BEGIN:VTIMEZONE
TZID:America/Anchorage
BEGIN:DAYLIGHT
TZOFFSETFROM:-0900
TZOFFSETTO:-0800
TZNAME:AKDT
DTSTART:20230312T110000
END:DAYLIGHT
BEGIN:STANDARD
TZOFFSETFROM:-0800
TZOFFSETTO:-0900
TZNAME:AKST
DTSTART:20231105T100000
END:STANDARD
BEGIN:DAYLIGHT
TZOFFSETFROM:-0900
TZOFFSETTO:-0800
TZNAME:AKDT
DTSTART:20240310T110000
END:DAYLIGHT
BEGIN:STANDARD
TZOFFSETFROM:-0800
TZOFFSETTO:-0900
TZNAME:AKST
DTSTART:20241103T100000
END:STANDARD
BEGIN:DAYLIGHT
TZOFFSETFROM:-0900
TZOFFSETTO:-0800
TZNAME:AKDT
DTSTART:20250309T110000
END:DAYLIGHT
BEGIN:STANDARD
TZOFFSETFROM:-0800
TZOFFSETTO:-0900
TZNAME:AKST
DTSTART:20251102T100000
END:STANDARD
END:VTIMEZONE
BEGIN:VEVENT
DTSTART;VALUE=DATE:20240425
DTEND;VALUE=DATE:20240426
DTSTAMP:20260419T101233
CREATED:20240423T205842Z
LAST-MODIFIED:20240423T205842Z
UID:12664-1714003200-1714089599@kawerak.org
SUMMARY:EESS Outreach in Shishmaref
DESCRIPTION:Kawerak’s Education Employment and Supportive Services Department will be in Shishmaref on Thursday April 25th at the Shishmaref School from 1pm-3:30pm! \nStop by to learn about our services we offer\, including GED\, training\, scholarships\, child care\, and welfare assistance. Don’t forget while you are there to grab your door prize as well 🙂
URL:https://kawerak.org/event/eess-outreach-in-shishmaref/
CATEGORIES:Education,Employment and Supportive Services
ATTACH;FMTTYPE=image/png:https://kawerak.org/wp-content/uploads/2024/04/SHH-EESS-Outreach-Flyer.png
END:VEVENT
END:VCALENDAR