BEGIN:VCALENDAR
VERSION:2.0
PRODID:-//Kawerak - ECPv6.15.20//NONSGML v1.0//EN
CALSCALE:GREGORIAN
METHOD:PUBLISH
X-ORIGINAL-URL:https://kawerak.org
X-WR-CALDESC:Events for Kawerak
REFRESH-INTERVAL;VALUE=DURATION:PT1H
X-Robots-Tag:noindex
X-PUBLISHED-TTL:PT1H
BEGIN:VTIMEZONE
TZID:America/Anchorage
BEGIN:DAYLIGHT
TZOFFSETFROM:-0900
TZOFFSETTO:-0800
TZNAME:AKDT
DTSTART:20230312T110000
END:DAYLIGHT
BEGIN:STANDARD
TZOFFSETFROM:-0800
TZOFFSETTO:-0900
TZNAME:AKST
DTSTART:20231105T100000
END:STANDARD
BEGIN:DAYLIGHT
TZOFFSETFROM:-0900
TZOFFSETTO:-0800
TZNAME:AKDT
DTSTART:20240310T110000
END:DAYLIGHT
BEGIN:STANDARD
TZOFFSETFROM:-0800
TZOFFSETTO:-0900
TZNAME:AKST
DTSTART:20241103T100000
END:STANDARD
BEGIN:DAYLIGHT
TZOFFSETFROM:-0900
TZOFFSETTO:-0800
TZNAME:AKDT
DTSTART:20250309T110000
END:DAYLIGHT
BEGIN:STANDARD
TZOFFSETFROM:-0800
TZOFFSETTO:-0900
TZNAME:AKST
DTSTART:20251102T100000
END:STANDARD
END:VTIMEZONE
BEGIN:VEVENT
DTSTART;VALUE=DATE:20240604
DTEND;VALUE=DATE:20240605
DTSTAMP:20260419T072340
CREATED:20240603T221036Z
LAST-MODIFIED:20240603T221036Z
UID:12927-1717459200-1717545599@kawerak.org
SUMMARY:EESS Outreach Event in White Mountain
DESCRIPTION:Kawerak’s Education Employment and Supportive Services Department will be in White Mountain on Tuesday June 4th at the Tribal office from 12:00pm-2:30pm! \nStop by to learn about our services we offer\, including GED\, training\, scholarships\, child care\, and welfare assistance. Don’t forget while you are there to grab your door prize as well ????
URL:https://kawerak.org/event/eess-outreach-event-in-white-mountain/
CATEGORIES:Child Care,Education,Employment and Supportive Services
ATTACH;FMTTYPE=image/jpeg:https://kawerak.org/wp-content/uploads/2024/06/446863980_778062567858084_3339081280590341649_n.jpg
END:VEVENT
BEGIN:VEVENT
DTSTART;VALUE=DATE:20240606
DTEND;VALUE=DATE:20240607
DTSTAMP:20260419T072340
CREATED:20240605T212948Z
LAST-MODIFIED:20240606T171743Z
UID:12932-1717632000-1717718399@kawerak.org
SUMMARY:EESS Outreach Event in Wales - Will be Reschduled
DESCRIPTION:This event will be rescheduled! \nKawerak’s Education Employment and Supportive Services Department will be in Wales on Thursday June 6th at the Tribal office from 12:00pm-2:30pm! \nStop by to learn about our services we offer\, including GED\, training\, scholarships\, child care\, and welfare assistance. Don’t forget while you are there to grab your door prize as well ????
URL:https://kawerak.org/event/eess-outreach-event-in-wales/
CATEGORIES:Child Care,Education,Employment and Supportive Services
ATTACH;FMTTYPE=image/jpeg:https://kawerak.org/wp-content/uploads/2024/06/447216618_779286957735645_6656693265557526209_n.jpg
END:VEVENT
END:VCALENDAR