BEGIN:VCALENDAR
VERSION:2.0
PRODID:-//Kawerak - ECPv6.15.20//NONSGML v1.0//EN
CALSCALE:GREGORIAN
METHOD:PUBLISH
X-ORIGINAL-URL:https://kawerak.org
X-WR-CALDESC:Events for Kawerak
REFRESH-INTERVAL;VALUE=DURATION:PT1H
X-Robots-Tag:noindex
X-PUBLISHED-TTL:PT1H
BEGIN:VTIMEZONE
TZID:America/Anchorage
BEGIN:DAYLIGHT
TZOFFSETFROM:-0900
TZOFFSETTO:-0800
TZNAME:AKDT
DTSTART:20230312T110000
END:DAYLIGHT
BEGIN:STANDARD
TZOFFSETFROM:-0800
TZOFFSETTO:-0900
TZNAME:AKST
DTSTART:20231105T100000
END:STANDARD
BEGIN:DAYLIGHT
TZOFFSETFROM:-0900
TZOFFSETTO:-0800
TZNAME:AKDT
DTSTART:20240310T110000
END:DAYLIGHT
BEGIN:STANDARD
TZOFFSETFROM:-0800
TZOFFSETTO:-0900
TZNAME:AKST
DTSTART:20241103T100000
END:STANDARD
BEGIN:DAYLIGHT
TZOFFSETFROM:-0900
TZOFFSETTO:-0800
TZNAME:AKDT
DTSTART:20250309T110000
END:DAYLIGHT
BEGIN:STANDARD
TZOFFSETFROM:-0800
TZOFFSETTO:-0900
TZNAME:AKST
DTSTART:20251102T100000
END:STANDARD
END:VTIMEZONE
BEGIN:VEVENT
DTSTART;VALUE=DATE:20240827
DTEND;VALUE=DATE:20240828
DTSTAMP:20260419T043510
CREATED:20240830T201214Z
LAST-MODIFIED:20240830T201214Z
UID:13235-1724716800-1724803199@kawerak.org
SUMMARY:EESS Outreach in Diomede
DESCRIPTION:Kawerak’s Education Employment and Supportive Services Department will be in Diomede on Tuesday August 27 from 12:30 to 2:00pm at the school gym! \nStop by to learn about our services we offer\, including GED\, training\, scholarships\, child care\, and welfare assistance. Don’t forget while you are there to grab your door prize as well ????
URL:https://kawerak.org/event/eess-outreach-in-diomede/
CATEGORIES:Education,Employment and Supportive Services
ATTACH;FMTTYPE=image/jpeg:https://kawerak.org/wp-content/uploads/2024/08/456850112_831587239172283_7631246783916421734_n-2.jpg
END:VEVENT
END:VCALENDAR