BEGIN:VCALENDAR
VERSION:2.0
PRODID:-//Kawerak - ECPv6.15.20//NONSGML v1.0//EN
CALSCALE:GREGORIAN
METHOD:PUBLISH
X-ORIGINAL-URL:https://kawerak.org
X-WR-CALDESC:Events for Kawerak
REFRESH-INTERVAL;VALUE=DURATION:PT1H
X-Robots-Tag:noindex
X-PUBLISHED-TTL:PT1H
BEGIN:VTIMEZONE
TZID:America/Anchorage
BEGIN:DAYLIGHT
TZOFFSETFROM:-0900
TZOFFSETTO:-0800
TZNAME:AKDT
DTSTART:20230312T110000
END:DAYLIGHT
BEGIN:STANDARD
TZOFFSETFROM:-0800
TZOFFSETTO:-0900
TZNAME:AKST
DTSTART:20231105T100000
END:STANDARD
BEGIN:DAYLIGHT
TZOFFSETFROM:-0900
TZOFFSETTO:-0800
TZNAME:AKDT
DTSTART:20240310T110000
END:DAYLIGHT
BEGIN:STANDARD
TZOFFSETFROM:-0800
TZOFFSETTO:-0900
TZNAME:AKST
DTSTART:20241103T100000
END:STANDARD
BEGIN:DAYLIGHT
TZOFFSETFROM:-0900
TZOFFSETTO:-0800
TZNAME:AKDT
DTSTART:20250309T110000
END:DAYLIGHT
BEGIN:STANDARD
TZOFFSETFROM:-0800
TZOFFSETTO:-0900
TZNAME:AKST
DTSTART:20251102T100000
END:STANDARD
END:VTIMEZONE
BEGIN:VEVENT
DTSTART;VALUE=DATE:20241009
DTEND;VALUE=DATE:20241010
DTSTAMP:20260420T045929
CREATED:20241007T224638Z
LAST-MODIFIED:20241007T224638Z
UID:13368-1728432000-1728518399@kawerak.org
SUMMARY:Sealskin Bowtie Workshop
DESCRIPTION:Joni Earp is teaching how to make sealskin bowties! All materials will be provided and no experience is necessary. Participants must be ¼ native to enroll. Registration is required\, and space is limited to 10 participants. To register email kunaq@kawerak.org or call 907-443-4340.\n\nWorkshop Details\nWednesday October 9\n6:00pm -9:00pm\n\nWorkshop will be held at Katirvik Cultural Center in the Richard Foster Building.
URL:https://kawerak.org/event/sealskin-bowtie-workshop/
CATEGORIES:Katirvik Cultural Center
ATTACH;FMTTYPE=image/png:https://kawerak.org/wp-content/uploads/2024/10/Exhibit-Grand-opening-Instagram-Post-3.png
END:VEVENT
BEGIN:VEVENT
DTSTART;VALUE=DATE:20241010
DTEND;VALUE=DATE:20241011
DTSTAMP:20260420T045929
CREATED:20241007T221604Z
LAST-MODIFIED:20241007T221604Z
UID:13355-1728518400-1728604799@kawerak.org
SUMMARY:Grand Opening of New Exhibit at the Richard Foster Building
DESCRIPTION:Katirvik Cultural Center and the Carrie M McLain Memorial Museum are pleased to announce the grand opening event for the new exhibit Uagut Inuusivut ~ Yuuyaraput (“Our Way of Life in Inupiaq and Yupik) hosted in the Richard Foster Building. \nCome join us to celebrate on Thursday October 10th at 7pm in the Richard Foster Building!  Look at the new exhibit and hear directly from some of the artists featured in the exhibit at the reception. \nThis exhibition showcases connections between Alaska Native makers and our wild resources featuring ground squirrel and sealskin. Each artist in this exhibition honors materials and memories that have been passed down through family. Artists include Danielle Larsen\, Merna Wharton\, Golga Oscar\, Kunaq Tahbone\, Joni Earp\, Bobby Brower\, Dana Hank\, and Michelle Ravenmoon. Through their work\, each artist carries forward kinship ties\, connections to place\, and our way of living. \nThis exhibition will run from October 10 – November 30.
URL:https://kawerak.org/event/grand-opening-of-new-exhibit-at-the-richard-foster-building/
CATEGORIES:Katirvik Cultural Center
ATTACH;FMTTYPE=image/png:https://kawerak.org/wp-content/uploads/2024/10/Exhibit-Grand-opening-Instagram-Post-2.png
END:VEVENT
BEGIN:VEVENT
DTSTART;VALUE=DATE:20241011
DTEND;VALUE=DATE:20241012
DTSTAMP:20260420T045929
CREATED:20241007T222120Z
LAST-MODIFIED:20241007T222149Z
UID:13359-1728604800-1728691199@kawerak.org
SUMMARY:Sriksrik Skin and Tan Preparation Demonstration
DESCRIPTION:Merna Wharton will give a demonstration how to skin a sriksrik and prepare it for tanning. Come and learn! There will be time to ask questions during the demonstration.\n\nDemonstration details:\nFriday October 11\, 2024\n12pm-3pm\nAt KCC\n\nThe event is free\, and no registration is required.
URL:https://kawerak.org/event/sriksrik-skin-and-tan-preparation-demonstration/
CATEGORIES:Katirvik Cultural Center
ATTACH;FMTTYPE=image/png:https://kawerak.org/wp-content/uploads/2024/10/Exhibit-Grand-opening-Instagram-Post-4.png
END:VEVENT
BEGIN:VEVENT
DTSTART;VALUE=DATE:20241011
DTEND;VALUE=DATE:20241013
DTSTAMP:20260420T045929
CREATED:20241007T222628Z
LAST-MODIFIED:20241007T223103Z
UID:13363-1728604800-1728777599@kawerak.org
SUMMARY:Yup'ik Bag Making Workshop
DESCRIPTION:Quki Golga Oscar will teach Yup’ik bag making to all interested participants. Intermediate sewing skills are required however.\n\nWorkshop Details\nOctober 11-12\nFriday Oct 11 : 5:30-9pm\nSaturday Oct 12: 10:30-6:30pm (lunch provided)\n\nAll materials will be provided. Workshop will be held at Katirvik Cultural Center in the Richard Foster Building. Registration is required and there are only 10 seats available. To register email kunaq@kawerak.org or call 907-443-4340.
URL:https://kawerak.org/event/yupik-bag-making-workshop/
CATEGORIES:Katirvik Cultural Center
ATTACH;FMTTYPE=image/png:https://kawerak.org/wp-content/uploads/2024/10/Exhibit-Grand-opening-Instagram-Post-5.png
END:VEVENT
END:VCALENDAR