BEGIN:VCALENDAR
VERSION:2.0
PRODID:-//Kawerak - ECPv6.15.20//NONSGML v1.0//EN
CALSCALE:GREGORIAN
METHOD:PUBLISH
X-ORIGINAL-URL:https://kawerak.org
X-WR-CALDESC:Events for Kawerak
REFRESH-INTERVAL;VALUE=DURATION:PT1H
X-Robots-Tag:noindex
X-PUBLISHED-TTL:PT1H
BEGIN:VTIMEZONE
TZID:America/Anchorage
BEGIN:DAYLIGHT
TZOFFSETFROM:-0900
TZOFFSETTO:-0800
TZNAME:AKDT
DTSTART:20240310T110000
END:DAYLIGHT
BEGIN:STANDARD
TZOFFSETFROM:-0800
TZOFFSETTO:-0900
TZNAME:AKST
DTSTART:20241103T100000
END:STANDARD
BEGIN:DAYLIGHT
TZOFFSETFROM:-0900
TZOFFSETTO:-0800
TZNAME:AKDT
DTSTART:20250309T110000
END:DAYLIGHT
BEGIN:STANDARD
TZOFFSETFROM:-0800
TZOFFSETTO:-0900
TZNAME:AKST
DTSTART:20251102T100000
END:STANDARD
BEGIN:DAYLIGHT
TZOFFSETFROM:-0900
TZOFFSETTO:-0800
TZNAME:AKDT
DTSTART:20260308T110000
END:DAYLIGHT
BEGIN:STANDARD
TZOFFSETFROM:-0800
TZOFFSETTO:-0900
TZNAME:AKST
DTSTART:20261101T100000
END:STANDARD
END:VTIMEZONE
BEGIN:VEVENT
DTSTART;VALUE=DATE:20250618
DTEND;VALUE=DATE:20250619
DTSTAMP:20260419T153915
CREATED:20250611T002547Z
LAST-MODIFIED:20250611T002547Z
UID:14473-1750204800-1750291199@kawerak.org
SUMMARY:Uluit Atuqtaatka Book Premiere!
DESCRIPTION:Book Premiere of Uluit Atuqtaatka on June 18th!  \n\n\n\nJoin us for a reading and discussion with the local author\, illustrator and translator! This is also the first opportunity to get your hands on a copy of the book as well as a toy ulu!\n\n\nSee you from 12pm-1pm at the Katirvik Cultural Center!
URL:https://kawerak.org/event/uluit-atuqtaatka-book-premiere/
CATEGORIES:Event,Katirvik Cultural Center
ATTACH;FMTTYPE=image/jpeg:https://kawerak.org/wp-content/uploads/2025/06/Book-Premier-5.jpg
END:VEVENT
END:VCALENDAR