BEGIN:VCALENDAR
VERSION:2.0
PRODID:-//Kawerak - ECPv6.15.20//NONSGML v1.0//EN
CALSCALE:GREGORIAN
METHOD:PUBLISH
X-ORIGINAL-URL:https://kawerak.org
X-WR-CALDESC:Events for Kawerak
REFRESH-INTERVAL;VALUE=DURATION:PT1H
X-Robots-Tag:noindex
X-PUBLISHED-TTL:PT1H
BEGIN:VTIMEZONE
TZID:America/Anchorage
BEGIN:DAYLIGHT
TZOFFSETFROM:-0900
TZOFFSETTO:-0800
TZNAME:AKDT
DTSTART:20240310T110000
END:DAYLIGHT
BEGIN:STANDARD
TZOFFSETFROM:-0800
TZOFFSETTO:-0900
TZNAME:AKST
DTSTART:20241103T100000
END:STANDARD
BEGIN:DAYLIGHT
TZOFFSETFROM:-0900
TZOFFSETTO:-0800
TZNAME:AKDT
DTSTART:20250309T110000
END:DAYLIGHT
BEGIN:STANDARD
TZOFFSETFROM:-0800
TZOFFSETTO:-0900
TZNAME:AKST
DTSTART:20251102T100000
END:STANDARD
BEGIN:DAYLIGHT
TZOFFSETFROM:-0900
TZOFFSETTO:-0800
TZNAME:AKDT
DTSTART:20260308T110000
END:DAYLIGHT
BEGIN:STANDARD
TZOFFSETFROM:-0800
TZOFFSETTO:-0900
TZNAME:AKST
DTSTART:20261101T100000
END:STANDARD
END:VTIMEZONE
BEGIN:VEVENT
DTSTART;VALUE=DATE:20250627
DTEND;VALUE=DATE:20250628
DTSTAMP:20260419T101543
CREATED:20250623T193828Z
LAST-MODIFIED:20250623T193846Z
UID:14512-1750982400-1751068799@kawerak.org
SUMMARY:Vital Records Drive - Land Management Services
DESCRIPTION:If your family owns a camp/native allotment\, it is a very good idea to collect the records of all owners and potential heirs to ensure the probate process down the line goes smoothly. A probate is when the owner passes away\, and the process in which the land goes through to officially transfer ownership. If the owner does not have a will to identify heirs\, and if the owners/heirs do not have their records of birth\, marriage\, divorce\, military\, adoption\, death and tribal enrollment prepared and ready when the land goes into probate\, this can stall the case from proceeding. \nDue to this\, Kawerak is hosting a vital records drive to collect these documents before a case goes into probate. Kawerak LMS staff will have Will Questionnaire forms also ready for tribal members who do not yet have a prepared will. NSHC Patient Benefits Coordinator will also be available to assist tribal members with apply for missing records\, ie birth certificates\, social security cards etc. Kawerak’s Tribal Affairs Department will be in the building to help with applying for a Tribal ID as well. \nPlease bring all records you have and we will see you Friday June 27th from 1:30pm-4pm at Kawerak’s Talialuk Building at 500 Seppala Drive. \nNote: If you cannot make this event\, feel free to stop by our LMS offices at any time with your records. \n 
URL:https://kawerak.org/event/vital-records-drive-land-management-services/
CATEGORIES:Land Management
END:VEVENT
END:VCALENDAR