BEGIN:VCALENDAR
VERSION:2.0
PRODID:-//Kawerak - ECPv6.15.20//NONSGML v1.0//EN
CALSCALE:GREGORIAN
METHOD:PUBLISH
X-WR-CALNAME:Kawerak
X-ORIGINAL-URL:https://kawerak.org
X-WR-CALDESC:Events for Kawerak
REFRESH-INTERVAL;VALUE=DURATION:PT1H
X-Robots-Tag:noindex
X-PUBLISHED-TTL:PT1H
BEGIN:VTIMEZONE
TZID:America/Anchorage
BEGIN:DAYLIGHT
TZOFFSETFROM:-0900
TZOFFSETTO:-0800
TZNAME:AKDT
DTSTART:20240310T110000
END:DAYLIGHT
BEGIN:STANDARD
TZOFFSETFROM:-0800
TZOFFSETTO:-0900
TZNAME:AKST
DTSTART:20241103T100000
END:STANDARD
BEGIN:DAYLIGHT
TZOFFSETFROM:-0900
TZOFFSETTO:-0800
TZNAME:AKDT
DTSTART:20250309T110000
END:DAYLIGHT
BEGIN:STANDARD
TZOFFSETFROM:-0800
TZOFFSETTO:-0900
TZNAME:AKST
DTSTART:20251102T100000
END:STANDARD
BEGIN:DAYLIGHT
TZOFFSETFROM:-0900
TZOFFSETTO:-0800
TZNAME:AKDT
DTSTART:20260308T110000
END:DAYLIGHT
BEGIN:STANDARD
TZOFFSETFROM:-0800
TZOFFSETTO:-0900
TZNAME:AKST
DTSTART:20261101T100000
END:STANDARD
END:VTIMEZONE
BEGIN:VEVENT
DTSTART;VALUE=DATE:20250625
DTEND;VALUE=DATE:20250626
DTSTAMP:20260420T113842
CREATED:20250618T195535Z
LAST-MODIFIED:20250618T195535Z
UID:14497-1750809600-1750895999@kawerak.org
SUMMARY:Pilgrim Hot Springs - Opening Date
DESCRIPTION:
URL:https://kawerak.org/event/pilgrim-hot-springs-opening-date/
CATEGORIES:Pilgrim Hot Springs
END:VEVENT
BEGIN:VEVENT
DTSTART;VALUE=DATE:20250628
DTEND;VALUE=DATE:20250629
DTSTAMP:20260420T113842
CREATED:20250618T195831Z
LAST-MODIFIED:20250618T195831Z
UID:14500-1751068800-1751155199@kawerak.org
SUMMARY:Pilgrim Hot Springs Opening Mini-Festival
DESCRIPTION:Join us during opening week for our Mini-Festival at the Hot Springs on June 28th from 2pm – 6pm! Music and good vibes will be provided.
URL:https://kawerak.org/event/pilgrim-hot-springs-opening-mini-festival/
CATEGORIES:Pilgrim Hot Springs
END:VEVENT
BEGIN:VEVENT
DTSTART;VALUE=DATE:20250629
DTEND;VALUE=DATE:20250630
DTSTAMP:20260420T113842
CREATED:20250625T003316Z
LAST-MODIFIED:20250625T003316Z
UID:14525-1751155200-1751241599@kawerak.org
SUMMARY:Pilgrim Hot Springs Indigenous Plant Workshop
DESCRIPTION:Register for this awesome workshop from 11am-4pm at Pilgrim Hot Springs! \nhttps://www.pilgrimhotsprings.com/event-details/indigenous-plant-workshop \n 
URL:https://kawerak.org/event/pilgrim-hot-springs-indigenous-plant-workshop/
CATEGORIES:Pilgrim Hot Springs
END:VEVENT
END:VCALENDAR