BEGIN:VCALENDAR
VERSION:2.0
PRODID:-//Kawerak - ECPv6.15.20//NONSGML v1.0//EN
CALSCALE:GREGORIAN
METHOD:PUBLISH
X-WR-CALNAME:Kawerak
X-ORIGINAL-URL:https://kawerak.org
X-WR-CALDESC:Events for Kawerak
REFRESH-INTERVAL;VALUE=DURATION:PT1H
X-Robots-Tag:noindex
X-PUBLISHED-TTL:PT1H
BEGIN:VTIMEZONE
TZID:America/Anchorage
BEGIN:DAYLIGHT
TZOFFSETFROM:-0900
TZOFFSETTO:-0800
TZNAME:AKDT
DTSTART:20230312T110000
END:DAYLIGHT
BEGIN:STANDARD
TZOFFSETFROM:-0800
TZOFFSETTO:-0900
TZNAME:AKST
DTSTART:20231105T100000
END:STANDARD
BEGIN:DAYLIGHT
TZOFFSETFROM:-0900
TZOFFSETTO:-0800
TZNAME:AKDT
DTSTART:20240310T110000
END:DAYLIGHT
BEGIN:STANDARD
TZOFFSETFROM:-0800
TZOFFSETTO:-0900
TZNAME:AKST
DTSTART:20241103T100000
END:STANDARD
BEGIN:DAYLIGHT
TZOFFSETFROM:-0900
TZOFFSETTO:-0800
TZNAME:AKDT
DTSTART:20250309T110000
END:DAYLIGHT
BEGIN:STANDARD
TZOFFSETFROM:-0800
TZOFFSETTO:-0900
TZNAME:AKST
DTSTART:20251102T100000
END:STANDARD
END:VTIMEZONE
BEGIN:VEVENT
DTSTART;VALUE=DATE:20240923
DTEND;VALUE=DATE:20240929
DTSTAMP:20260419T064754
CREATED:20240814T185000Z
LAST-MODIFIED:20240814T185000Z
UID:13160-1727049600-1727567999@kawerak.org
SUMMARY:Last Week To Apply For Subsistence Relief Funds from 2020 Salmon Disaster
DESCRIPTION:The open application period for relief funds due to the 2020 Statewide Salmon Disaster for subsistence users and vessel crew closes September 28th. This applies to anyone who fished in the Norton Sound Region in 2020 who experienced hardship due to the salmon disaster. It does not specify what subunit you were fishing in. Subsistence users (at least 1 per household) must have held a permit from 2016-2020. The amount dispersed will be determined by the number of applications that will split the allotted relief funds. Late applications will not be accepted. \nFor more information on the 2020 Statewide salmon disaster applications and spend plan please visit the following website: https://relief.psmfc.org/2020-21-statewide-salmon/ \nIf you have any questions regarding the spend plan\, please email: dfg.com.fisheriesdisasters@alaska.gov or visit the State’s Federal Fishery Disasters website here: https://www.adfg.alaska.gov/index.cfm?adfg=hottopics.fisherydisasters
URL:https://kawerak.org/event/last-week-to-apply-for-subsistence-relief-funds-from-2020-salmon-disaster/
CATEGORIES:Subsistence
ATTACH;FMTTYPE=image/jpeg:https://kawerak.org/wp-content/uploads/2024/08/Play-2.jpg
END:VEVENT
END:VCALENDAR