BEGIN:VCALENDAR
VERSION:2.0
PRODID:-//Kawerak - ECPv6.15.20//NONSGML v1.0//EN
CALSCALE:GREGORIAN
METHOD:PUBLISH
X-ORIGINAL-URL:https://kawerak.org
X-WR-CALDESC:Events for Kawerak
REFRESH-INTERVAL;VALUE=DURATION:PT1H
X-Robots-Tag:noindex
X-PUBLISHED-TTL:PT1H
BEGIN:VTIMEZONE
TZID:America/Anchorage
BEGIN:DAYLIGHT
TZOFFSETFROM:-0900
TZOFFSETTO:-0800
TZNAME:AKDT
DTSTART:20240310T110000
END:DAYLIGHT
BEGIN:STANDARD
TZOFFSETFROM:-0800
TZOFFSETTO:-0900
TZNAME:AKST
DTSTART:20241103T100000
END:STANDARD
BEGIN:DAYLIGHT
TZOFFSETFROM:-0900
TZOFFSETTO:-0800
TZNAME:AKDT
DTSTART:20250309T110000
END:DAYLIGHT
BEGIN:STANDARD
TZOFFSETFROM:-0800
TZOFFSETTO:-0900
TZNAME:AKST
DTSTART:20251102T100000
END:STANDARD
BEGIN:DAYLIGHT
TZOFFSETFROM:-0900
TZOFFSETTO:-0800
TZNAME:AKDT
DTSTART:20260308T110000
END:DAYLIGHT
BEGIN:STANDARD
TZOFFSETFROM:-0800
TZOFFSETTO:-0900
TZNAME:AKST
DTSTART:20261101T100000
END:STANDARD
END:VTIMEZONE
BEGIN:VEVENT
DTSTART;VALUE=DATE:20250501
DTEND;VALUE=DATE:20250601
DTSTAMP:20260421T203208
CREATED:20250425T201855Z
LAST-MODIFIED:20250425T201855Z
UID:14150-1746057600-1748735999@kawerak.org
SUMMARY:May Self Care Wellness Bingo
DESCRIPTION:May is Mental Health Awareness Month\, and we’re celebrating by encouraging healthy\, happy activities as we welcome back the warmer weather and longer daylight hours.\n\nHere’s how it works:\n\n\nComplete 5 activities in a row and check them off (diagonals and the free space count) to earn 1 raffle entry\n\n\nComplete 10 or more activities and check them off (anywhere on the card) to earn 2 raffle entries\n\nSubmit your card by 4pm on June 3rd to receive raffle entries. The drawing will be held on June 6th.\n\nPlease ensure you have your name and contact information on your card\n\n\nPrizes include diamond art kits\, journals\, tea kettles\, food savers\, and more!\n\nTurn in your completed card by 4pm on June 3rd to Kawerak Wellness:\nEmail: wellness@kawerak.org\nIn person: Old Federal Building\, Room 209\nQuestions? Contact us at wellness@kawerak.org or (907) 443-4397\nDownload the PDF Here: https://kawerak.org/download/may-wellness-self-care-bingo/?tmstv=1745611845 \n  \nUntitled design-14
URL:https://kawerak.org/event/may-self-care-wellness-bingo/
CATEGORIES:Wellness
END:VEVENT
END:VCALENDAR